BEGIN:VCALENDAR
VERSION:2.0
PRODID:-//Cascadia Center For Arts &amp; Crafts - ECPv6.15.20//NONSGML v1.0//EN
CALSCALE:GREGORIAN
METHOD:PUBLISH
X-ORIGINAL-URL:https://cascadiaart.org
X-WR-CALDESC:Events for Cascadia Center For Arts &amp; Crafts
REFRESH-INTERVAL;VALUE=DURATION:PT1H
X-Robots-Tag:noindex
X-PUBLISHED-TTL:PT1H
BEGIN:VTIMEZONE
TZID:America/Los_Angeles
BEGIN:DAYLIGHT
TZOFFSETFROM:-0800
TZOFFSETTO:-0700
TZNAME:PDT
DTSTART:20230312T100000
END:DAYLIGHT
BEGIN:STANDARD
TZOFFSETFROM:-0700
TZOFFSETTO:-0800
TZNAME:PST
DTSTART:20231105T090000
END:STANDARD
BEGIN:DAYLIGHT
TZOFFSETFROM:-0800
TZOFFSETTO:-0700
TZNAME:PDT
DTSTART:20240310T100000
END:DAYLIGHT
BEGIN:STANDARD
TZOFFSETFROM:-0700
TZOFFSETTO:-0800
TZNAME:PST
DTSTART:20241103T090000
END:STANDARD
BEGIN:DAYLIGHT
TZOFFSETFROM:-0800
TZOFFSETTO:-0700
TZNAME:PDT
DTSTART:20250309T100000
END:DAYLIGHT
BEGIN:STANDARD
TZOFFSETFROM:-0700
TZOFFSETTO:-0800
TZNAME:PST
DTSTART:20251102T090000
END:STANDARD
END:VTIMEZONE
BEGIN:VEVENT
DTSTART;TZID=America/Los_Angeles:20240525T100000
DTEND;TZID=America/Los_Angeles:20240526T140000
DTSTAMP:20260421T181023
CREATED:20240304T235521Z
LAST-MODIFIED:20240402T190208Z
UID:3281-1716631200-1716732000@cascadiaart.org
SUMMARY:Hand-forging Coin Silver for Cascadian Design Earrings with Silversmiths Jack & Janette Burton
DESCRIPTION:Saturday\, May 25th & Sunday\, May 26th\, 2024 \nHand-forging Coin Silver for Cascadian Design Earrings with Silversmiths Jack & Janette Burton\nJoin us for an eight-hour demonstration and hands-on\, two-day class. Divided into two\, four-hour parts\, we will teach the history and basic techniques of creating Cascadia Style personal adornment. Students will cold-forge antique U.S. silver coins without the use of power tools on a simple tabletop workspace. \nDay One:\n10 am to 2 pm with a 20-minute snack & chat break. Introduction to the history\, tools\, and technique with hands-on coin forging\, annealing\, design\, and layout. \nDay Two:\n10 am to 2 pm with a 20-minute snack & chat break. Jack & Janette will guide and assist each student with design-execution\, metal forming\, plenishing\, chasing\, filing\, toning\, and finishing. Student will take home a pair of earrings from disks they have forged from silver dimes and fashion their own ear wires from sterling silver. Student experience level: Beginning-Intermediate Minimum number of students: 4 – 8 max Cost $275 includes – Your own handmade pair of Cascadia Design earrings and a student practice and polishing kit to continue your jewelry adventures at home! For more images of the work these talented artists create\, go to their Instagram.    
URL:https://cascadiaart.org/class/hand-forging-coin-silver-for-cascadian-design-earrings-with-silversmiths-jack-janette-burton-2/
LOCATION:Trillium Studio “lower cabin”\, 30800 Rd 530\, Government Camp\, OR\, 97028\, United States
CATEGORIES:Jewelry
END:VEVENT
END:VCALENDAR